BEGIN:VCALENDAR
VERSION:2.0
PRODID:-//Saving Sight - ECPv6.15.20//NONSGML v1.0//EN
CALSCALE:GREGORIAN
METHOD:PUBLISH
X-WR-CALNAME:Saving Sight
X-ORIGINAL-URL:https://saving-sight.org
X-WR-CALDESC:Events for Saving Sight
REFRESH-INTERVAL;VALUE=DURATION:PT1H
X-Robots-Tag:noindex
X-PUBLISHED-TTL:PT1H
BEGIN:VTIMEZONE
TZID:UTC
BEGIN:STANDARD
TZOFFSETFROM:+0000
TZOFFSETTO:+0000
TZNAME:UTC
DTSTART:20180101T000000
END:STANDARD
END:VTIMEZONE
BEGIN:VEVENT
DTSTART;VALUE=DATE:20190208
DTEND;VALUE=DATE:20190210
DTSTAMP:20260421T062118
CREATED:20181201T033144Z
LAST-MODIFIED:20190128T212915Z
UID:10000062-1549584000-1549756799@saving-sight.org
SUMMARY:Kansas City Society of Ophthalmology and Otolaryngology
DESCRIPTION:Meet us in Kansas City!We’ll be at the Kansas City Society of Ophthalmology and Otolaryngology’s Annual Meeting\, February 8 & 9\, 2019. \n							\n						\n					\n				\n				\n				\n				\n			\n			\n				\n				\n			\n			\n				\n				\n			\n				\n				\n				\n				\n				\n				\n				\n				\n				\n				\n				\n				\n				\n				\n				\n				\n				\n				Connect with our Saving Sight staff in at the Kansas City Society of Ophthalmology and Otolaryngology’s Annual Meeting. Saving Sight representatives will be available to speak with you at our booth. Learn more about our pre-loaded DSAEK and DMEK tissue services\, or find out more about getting your patients started with Vital Tears. \nInterested in setting up a time to meet with our team at KCO&O? Contact our Business Development Manager\, Kevin Wright. \n  \n			\n			\n				\n				\n				\n				\n			\n				\n				\n				\n				\n				\n				\n				\n				\n				\n				\n				\n			\n				\n				\n				\n				\n				PRE-LOADED DMEK\nGet started with DMEK surgeries by utilizing Saving Sight’s prepared and pre-loaded options. \n			\n			\n				\n				\n				\n				\n				\n				\n				\n				\n				\n				\n			\n				\n				\n				\n				\n				PRE-LOADED DSAEK\nOur prepared and pre-loaded DSAEK tissue can save you valuable time in the operating room. \n			\n			\n				\n				\n				\n				\n				\n				\n				\n				\n				\n				\n			\n				\n				\n				\n				\n				VITAL TEARS®\nExperience autologous serum eye drops made easy! As a Vital Tears® co-founder\, we provide this custom solution for your patients.
URL:https://saving-sight.org/event/kcoo/
LOCATION:Overland Park Convention Center\, 6000 College Blvd.\, Overland Park\, KS\, 66211\, United States
GEO:38.928468;-94.654905
X-APPLE-STRUCTURED-LOCATION;VALUE=URI;X-ADDRESS=Overland Park Convention Center 6000 College Blvd. Overland Park KS 66211 United States;X-APPLE-RADIUS=500;X-TITLE=6000 College Blvd.:geo:-94.654905,38.928468
END:VEVENT
END:VCALENDAR